BEGIN:VCALENDAR
VERSION:2.0
PRODID:-//Tukios.com/
BEGIN:VEVENT
UID:16a5a5b1-9558-4a5b-b811-f7c3edb1fa13@www.davisbabcock.com
DTSTAMP:20260426T004043Z
DTSTART:20260429T200000Z
DTEND:20260429T230000Z
SUMMARY:Visitation
DESCRIPTION:
URL:https://www.davisbabcock.com/obituaries/richard-crihfield
LOCATION: 4154 Clark Ave  Willoughby OH 44094
GEO:41.6397324;-81.408981
END:VEVENT
END:VCALENDAR