BEGIN:VCALENDAR
VERSION:2.0
PRODID:-//Tukios.com/
BEGIN:VEVENT
UID:3063019e-79c9-4774-9ab2-5b0ad812ca61@www.davisbabcock.com
DTSTAMP:20260426T003944Z
DTSTART:20260430T143000Z
DTEND:20260430T153000Z
SUMMARY:Funeral Service
DESCRIPTION:
URL:https://www.davisbabcock.com/obituaries/richard-crihfield
LOCATION: 4154 Clark Ave  Willoughby OH 44094
GEO:41.6397324;-81.408981
END:VEVENT
END:VCALENDAR