BEGIN:VCALENDAR
VERSION:2.0
PRODID:-//Tukios.com/
BEGIN:VEVENT
UID:0d8bb2e4-7002-4d99-9336-5163f0b03e49@www.davisbabcock.com
DTSTAMP:20260420T174008Z
DTSTART:20260427T200000Z
DTEND:20260427T230000Z
SUMMARY:Visitation
DESCRIPTION:
URL:https://www.davisbabcock.com/obituaries/sandra-gessic
LOCATION: 4154 Clark Ave  Willoughby OH 44094
GEO:41.6397324;-81.408981
END:VEVENT
END:VCALENDAR