BEGIN:VCALENDAR
VERSION:2.0
PRODID:-//Tukios.com/
BEGIN:VEVENT
UID:6b1ae90e-99df-4c93-b1cf-644c5fc1ccda@www.davisbabcock.com
DTSTAMP:20260420T174919Z
DTSTART:20260427T230000Z
DTEND:20260428T000000Z
SUMMARY:Funeral Service
DESCRIPTION:
URL:https://www.davisbabcock.com/obituaries/sandra-gessic
LOCATION: 4154 Clark Ave  Willoughby OH 44094
GEO:41.6397324;-81.408981
END:VEVENT
END:VCALENDAR